BEGIN:VCALENDAR
VERSION:2.0
PRODID:-//Millennial Houseplant - ECPv6.15.20//NONSGML v1.0//EN
CALSCALE:GREGORIAN
METHOD:PUBLISH
X-ORIGINAL-URL:https://www.millennialhouseplant.com
X-WR-CALDESC:Events for Millennial Houseplant
REFRESH-INTERVAL;VALUE=DURATION:PT1H
X-Robots-Tag:noindex
X-PUBLISHED-TTL:PT1H
BEGIN:VTIMEZONE
TZID:America/Los_Angeles
BEGIN:DAYLIGHT
TZOFFSETFROM:-0800
TZOFFSETTO:-0700
TZNAME:PDT
DTSTART:20240310T100000
END:DAYLIGHT
BEGIN:STANDARD
TZOFFSETFROM:-0700
TZOFFSETTO:-0800
TZNAME:PST
DTSTART:20241103T090000
END:STANDARD
BEGIN:DAYLIGHT
TZOFFSETFROM:-0800
TZOFFSETTO:-0700
TZNAME:PDT
DTSTART:20250309T100000
END:DAYLIGHT
BEGIN:STANDARD
TZOFFSETFROM:-0700
TZOFFSETTO:-0800
TZNAME:PST
DTSTART:20251102T090000
END:STANDARD
BEGIN:DAYLIGHT
TZOFFSETFROM:-0800
TZOFFSETTO:-0700
TZNAME:PDT
DTSTART:20260308T100000
END:DAYLIGHT
BEGIN:STANDARD
TZOFFSETFROM:-0700
TZOFFSETTO:-0800
TZNAME:PST
DTSTART:20261101T090000
END:STANDARD
END:VTIMEZONE
BEGIN:VEVENT
DTSTART;VALUE=DATE:20250102
DTEND;VALUE=DATE:20250107
DTSTAMP:20260422T104115
CREATED:20250109T010913Z
LAST-MODIFIED:20250109T010913Z
UID:239-1735776000-1736207999@www.millennialhouseplant.com
SUMMARY:The House of Nightfallen
DESCRIPTION:ONE DARK KISS…\nIn the sheltered human enclave\, whispers of the fae realm have always haunted me. Little did I know that my destiny lay in the shadowed heart of the fae’s darkest domain—the Court of Shades. Ruled by the dreaded High Lord of the House of Nightfallen\, whose heir’s brutal act has cast a grim shadow over our world. Forced to become his unwilling mate\, I’m thrust into a realm of treachery and terror\, where shadows hunger for blood and secrets lurk in every corner. As darkness envelops me\, a chilling vision reveals the true depths of our entwined fate. With each forbidden kiss\, I unravel deeper into a realm of darkness and desire\, where survival comes at a perilous price. \nChange is coming to the House of Nightfallen… \nVolume One includes episodes 1-9 of the House of Nighfallen: \n\nOne Dark Kiss\nTwo Dark Vows\nThree Dark Souls\nLady Nightfall\nA Dance With the High Lord\nThe Court of Shades\nA Journey of Shadow and Wind\nBonds of Golden Fire\nProphecy of the Priestess
URL:https://www.millennialhouseplant.com/event/the-house-of-nightfallen/
LOCATION:Amazon Kindle
CATEGORIES:Free Books
END:VEVENT
BEGIN:VEVENT
DTSTART;VALUE=DATE:20250103
DTEND;VALUE=DATE:20250108
DTSTAMP:20260422T104115
CREATED:20250109T010311Z
LAST-MODIFIED:20250109T010311Z
UID:230-1735862400-1736294399@www.millennialhouseplant.com
SUMMARY:Weekend Escape
DESCRIPTION:Indulge in a collection of steamy tales that will leave you breathless and yearning for more. In this captivating anthology\, experience the thrilling twists and turns of desire as you delve into the passionate encounters of five unforgettable stories. \nIn “Convince Me To Stay\,” follow Kimberly as she navigates the enticing world of Hollywood’s elite\, where love and lust collide in unexpected ways. \n“I Only Need An Hour” invites you into the secret rendezvous of a married woman seeking fulfillment in the arms of a mysterious stranger. \nIn “Simulating The Scene\,” journey behind the scenes of a fantasy film set where on-screen chemistry sparks a fiery romance between co-stars. \nExplore the forbidden desires of step-siblings in “The Wildlings\,” as Karina and Jack struggle to resist the temptation of their undeniable attraction. \nFinally\, get swept away in the sensual game of “Truth or Strip\,” where Veronica and Jake uncover hidden desires and forbidden secrets during a stormy night in the office. \nPrepare to be captivated by each tantalizing tale in this anthology of passion\, lust\, and longing. Get ready to lose yourself in the seductive world of “Desire Unbound: A Collection of Steamy Short Stories.”
URL:https://www.millennialhouseplant.com/event/weekend-escape/
LOCATION:Amazon Kindle
CATEGORIES:Free Books
END:VEVENT
BEGIN:VEVENT
DTSTART;VALUE=DATE:20250108
DTEND;VALUE=DATE:20250113
DTSTAMP:20260422T104115
CREATED:20250109T010633Z
LAST-MODIFIED:20250109T010644Z
UID:235-1736294400-1736726399@www.millennialhouseplant.com
SUMMARY:His and Hers and Mine
DESCRIPTION:Daphne’s 23rd birthday celebration takes a wild turn when she invites her two best friends\, Meredith and Jax\, to a secluded cabin for a weekend of indulgence. As wine flows and inhibitions fade\, a game of Truth or Dare ignites a fiery passion between the trio. \n“His and Hers and Mine” is a steamy erotic novella that delves into the forbidden desires and tangled emotions of three friends. Join Daphne\, Meredith\, and Jax on a journey of lust and longing as they surrender to their deepest fantasies. Are you ready for a weekend of seduction\, secrets\, and uninhibited pleasure?
URL:https://www.millennialhouseplant.com/event/his-and-hers-and-mine/
LOCATION:Amazon Kindle
CATEGORIES:Free Books
END:VEVENT
BEGIN:VEVENT
DTSTART;VALUE=DATE:20250109
DTEND;VALUE=DATE:20250114
DTSTAMP:20260422T104115
CREATED:20250109T021349Z
LAST-MODIFIED:20250109T021349Z
UID:269-1736380800-1736812799@www.millennialhouseplant.com
SUMMARY:Convince Me To Stay (Weekend Escape)
DESCRIPTION:Kimberly Preston’s heart is torn between love and independence as she contemplates ending her relationship with Hollywood heartthrob Vince Jackson. But when they share one final passionate night\, will it reignite the flames of desire and lead her to reconsider her decision? \n“Convince Me To Stay” is a steamy standalone short story packed with tension\, temptation\, and life-changing revelations. Dive into a whirlwind romance that will leave you breathless and guessing until the very end. Are you ready to be convinced?
URL:https://www.millennialhouseplant.com/event/convince-me-to-stay-weekend-escape/
LOCATION:Amazon Kindle
CATEGORIES:Free Books
END:VEVENT
BEGIN:VEVENT
DTSTART;VALUE=DATE:20250114
DTEND;VALUE=DATE:20250119
DTSTAMP:20260422T104115
CREATED:20250109T011721Z
LAST-MODIFIED:20250109T012515Z
UID:246-1736812800-1737244799@www.millennialhouseplant.com
SUMMARY:A Dance With the High Lord (The House of Nightfallen #5)
DESCRIPTION:For the first time in my human life I experience what it feels like to be cherished. Cared for. Desired. Each night my attentive mate Caspian – son of the High Lord and heir to the Court of Shades and the House of Nightfallen – whispers my name with divine exaltation as he rewards me for carrying his seed. The more evident my condition becomes\, the more insistent Caspian is that I remain locked away in my rooms and out of sight of prying eyes. \nBut in the Court of Shades even the rooms have secrets. Hidden doors and compartments tucked away out of sight\, virtually undetectable unless you know where to look\, or you’re bored enough to start looking for them in the first place. That’s how I discover the hidden parlor connecting Caspian’s private rooms to mine\, and witness an exchange between my mate and the High Lord that will forever change my life. \nSome secrets are bound to reveal themselves. And when they do\, there’s no telling what the High Lord will say\, or what Caspian will do to protect his heir at all costs. \nA Dance With the High Lord is a continuation of The House of Nightfallen and contains adult themes suitable for mature audiences only. Read on the go! This series is being released in short\, novellete-sized parts (lots of story packed into 10k words).
URL:https://www.millennialhouseplant.com/event/a-dance-with-the-high-lord/
LOCATION:Amazon Kindle
CATEGORIES:Free Books
END:VEVENT
BEGIN:VEVENT
DTSTART;VALUE=DATE:20250114
DTEND;VALUE=DATE:20250119
DTSTAMP:20260422T104115
CREATED:20250109T012456Z
LAST-MODIFIED:20250109T012456Z
UID:257-1736812800-1737244799@www.millennialhouseplant.com
SUMMARY:Lady Nightfall (The House of Nightfallen #4)
DESCRIPTION:I am in way over my head\, and my life as Lady Nightfall has only just begun. Following a nearly week-long mating ceremony\, I am brought to the private court in the north wing of the castle – Caspian’s own personal court to oversee at his pleasure. Two facts become crystal clear. \nFirst\, that my mate’s intention of being kingmaker and fulfilling the Priestess Vanora’s prophecy that a half-human fae would one day rule over all of the fae was his singular focus. That it was his personal mission to rid me of my human thoughts and mindset. \nAnd second\, that as my life as Lady Nightfall shaped my daily existence over the next half year\, I would enjoy his attention\, affection\, and absolute adoration in his nearly-nightly visits to my bedroom in ways I absolutely shouldn’t. \nUntil Caspian gets what he wants. \nLady Nightfall continues The House of Nightfallen series… and contains strong sexual themes suitable for mature audiences only. Read on the go! This series is being released in short\, novellete-sized parts (lots of story packed into 6k words).
URL:https://www.millennialhouseplant.com/event/lady-nightfall-the-house-of-nightfallen-4/
LOCATION:Amazon Kindle
CATEGORIES:Free Books
END:VEVENT
BEGIN:VEVENT
DTSTART;VALUE=DATE:20250114
DTEND;VALUE=DATE:20250119
DTSTAMP:20260422T104115
CREATED:20250109T012659Z
LAST-MODIFIED:20250109T012953Z
UID:260-1736812800-1737244799@www.millennialhouseplant.com
SUMMARY:The Court of Shades (The House of Nightfallen #6)
DESCRIPTION:In the afterglow of the Solstice ball\, I allow myself to believe that life will improve now that the High Lord knows I’m carrying Caspian’s heir. But where the courtiers once ignored me\, now they stared and whispered\, stoking the flames of fear of a rival court discovering the line of the Nightfallen has been disrupted\, tainted with human blood. Desperate to keep me locked away in my rooms and out of sight of his court\, Caspian strikes a bargain to keep me satisfied: an entire night with him in his room\, in his bed. A deal I can’t resist \nBut it isn’t Caspian who comes to collect me that night… and for months I’m locked away in a prison of my own unconsciousness\, frozen in time as life passes by. When I finally awaken it’s to a version of my life I don’t even recognize. \nThe Court of Shades is a continuation of The House of Nightfallen and contains adult themes suitable for mature audiences only. Read on the go! This series is being released in short\, novellete-sized parts (lots of story packed into 10k words).
URL:https://www.millennialhouseplant.com/event/the-court-of-shades-the-house-of-nightfallen-6/
LOCATION:Amazon Kindle
CATEGORIES:Free Books
END:VEVENT
BEGIN:VEVENT
DTSTART;VALUE=DATE:20250116
DTEND;VALUE=DATE:20250121
DTSTAMP:20260422T104115
CREATED:20250109T024549Z
LAST-MODIFIED:20250109T024549Z
UID:272-1736985600-1737417599@www.millennialhouseplant.com
SUMMARY:I Only Need An Hour (Weekend Escape)
DESCRIPTION:“Pretend that you love me. Like you can’t get enough of me. Make me believe that-“ I stopped to collect myself in the moment\, and to recall exactly what I had decided I needed. “Make me believe you desire nothing but making love to me for the rest of your life.” \nStep into the forbidden world of desire as a married woman embarks on a clandestine rendezvous with a captivating stranger\, seeking to satisfy her deepest yearnings in just sixty minutes. But will one hour be enough to quench the flames of passion\, or will it ignite a fire that cannot be extinguished? \n“I Only Need An Hour” is a scintillating erotic short story that explores the boundaries of lust\, temptation\, and the pursuit of pleasure. Dive into a world where every touch\, every whisper\, is charged with electrifying intensity. Are you ready to indulge?
URL:https://www.millennialhouseplant.com/event/i-only-need-an-hour-weekend-escape/
LOCATION:Amazon Kindle
CATEGORIES:Free Books
END:VEVENT
BEGIN:VEVENT
DTSTART;VALUE=DATE:20250120
DTEND;VALUE=DATE:20250125
DTSTAMP:20260422T104115
CREATED:20250109T011359Z
LAST-MODIFIED:20250109T011409Z
UID:242-1737331200-1737763199@www.millennialhouseplant.com
SUMMARY:Bidden 10th Anniversary Edition
DESCRIPTION:Every affair starts somewhere… \nStruggling under the weight of student debt\, Natalie Harlow finds herself trapped in a cycle of financial uncertainty. But when her sophisticated colleague Quinn extends a tantalizing offer\, Natalie is thrust into a world of secrecy and opulence. \nIntrigued yet wary\, Natalie steps into a high-stakes game where money speaks louder than morals. Twelve alluring “Candidates” stand ready for auction to twelve wealthy bidders\, promising an evening of indulgence behind closed doors. With the allure of quick cash pulling her in\, Natalie grapples with the choice to become Candidate Four. \nAs the night unfolds in a lavish hilltop mansion\, Natalie is swept into a whirlwind of desire\, power\, and intrigue. But as boundaries blur and inhibitions fade\, she must confront the consequences of her decisions. \nThe Bidden Series delivers a pulse-pounding tale of passion and temptation\, exploring the fine line between financial gain and personal sacrifice. Prepare to be captivated\, enchanted\, and left craving more. \nCELEBRATING TEN YEARS!! This special edition Love Triangle Edit features the following stories from the Bidden series in continuous chapter order: \n\nThe First Candidate\nCandidate Four\nSinful Reunion\nSecret Desires\nThe Other Woman\nBeyond Ruin\nUnbidden Love\nThe Honeymoon\nContested Heart\nPalm Springs
URL:https://www.millennialhouseplant.com/event/bidden-10th-anniversary-edition/
LOCATION:Amazon Kindle
CATEGORIES:Free Books
END:VEVENT
BEGIN:VEVENT
DTSTART;VALUE=DATE:20250121
DTEND;VALUE=DATE:20250126
DTSTAMP:20260422T104115
CREATED:20250109T020842Z
LAST-MODIFIED:20250109T020916Z
UID:266-1737417600-1737849599@www.millennialhouseplant.com
SUMMARY:The First Candidate (The Bidden Series)
DESCRIPTION:Every affair beings somewhere… When a class assignment calls for designing a profit-earning business plan\, James Fitzgerald and his classmate – the cool and secretly provocative Audra Robertson – decide to take things a step further: a legendary\, for-one-night-only party in a gorgeous mansion high in the hills of Los Angeles at $20 a head. The party is a success\, but it’s in a secret room above the pounding music and flowing alcohol where the night really begins and history is made: The very first auction. Twelve beautiful girls in golden colored masks. Twelve horny college guys with disposable income to burn. James makes the first bid on the first candidate\, a stunning blonde whose identity he’s sure he knows. But it isn’t until they’ve begun to consume their lust-filled passion that James realizes she isn’t who he thought she was… In this short story prequel to the Bidden series\, meet James before he was Gentleman Twelve\, and learn the origins of the storied auction that would one day introduce him to Candidate Four. Check out the entire Bidden series!
URL:https://www.millennialhouseplant.com/event/the-first-candidate-the-bidden-series/
LOCATION:Amazon Kindle
CATEGORIES:Free Books
END:VEVENT
BEGIN:VEVENT
DTSTART;VALUE=DATE:20250123
DTEND;VALUE=DATE:20250128
DTSTAMP:20260422T104115
CREATED:20250109T025155Z
LAST-MODIFIED:20250109T025155Z
UID:275-1737590400-1738022399@www.millennialhouseplant.com
SUMMARY:Simulating The Scene (Weekend Escape)
DESCRIPTION:Behind the glitz and glamour of Hollywood lies a simmering tension between two co-stars playing immortal fae lovers. Harper Avery and Lewis Calvin despise each other on set\, but their characters share a passionate bond that blurs the lines between fiction and reality. \nAs they approach their characters’ final farewell\, the sparks between Harper and Lewis ignite a fire that cannot be contained. Will they succumb to the irresistible pull of desire\, or will their professional façade remain intact? \n“Simulating The Scene” is a sizzling erotic short story that delves into the complexities of love\, lust\, and forbidden attraction. Step into the world of fantasy and passion where reality meets fiction\, and every touch is electrifying. Are you ready to be seduced?
URL:https://www.millennialhouseplant.com/event/simulating-the-scene-weekend-escape/
LOCATION:Amazon Kindle
CATEGORIES:Free Books
END:VEVENT
BEGIN:VEVENT
DTSTART;VALUE=DATE:20250128
DTEND;VALUE=DATE:20250202
DTSTAMP:20260422T104115
CREATED:20250109T015847Z
LAST-MODIFIED:20250109T015847Z
UID:262-1738022400-1738454399@www.millennialhouseplant.com
SUMMARY:The Romance of Nick and Layla (The Complete Series)
DESCRIPTION:Nick and Layla met and fell in love when they were both young and stupid\, and fell into the superficial trappings of fame and wealth. They soon discovered that they brought out the best and the worst in each other\, and their marriage – a secret to even their own families – suffered as a result. “The Romance of Nick and Layla” is a series of six parts that tells the story of a couple’s dysfunctional relationship over the course of nearly twenty years. \nWALK AWAY (Part 1):\nLayla doesn’t believe in love\, and yet there is only one man in the world who has ever had her heart: Nick Hudson. A pop star famous the world over\, Nick is everything a girl would want in a man. But their secret marriage is taking a toll on Layla’s life\, and every day she’s finding it more difficult to stay with the man who gives her every reason to walk away.
URL:https://www.millennialhouseplant.com/event/the-romance-of-nick-and-layla-the-complete-series/
LOCATION:Amazon Kindle
CATEGORIES:Free Books
END:VEVENT
END:VCALENDAR