BEGIN:VCALENDAR
VERSION:2.0
PRODID:-//Millennial Houseplant - ECPv6.15.20//NONSGML v1.0//EN
CALSCALE:GREGORIAN
METHOD:PUBLISH
X-WR-CALNAME:Millennial Houseplant
X-ORIGINAL-URL:https://www.millennialhouseplant.com
X-WR-CALDESC:Events for Millennial Houseplant
REFRESH-INTERVAL;VALUE=DURATION:PT1H
X-Robots-Tag:noindex
X-PUBLISHED-TTL:PT1H
BEGIN:VTIMEZONE
TZID:America/Los_Angeles
BEGIN:DAYLIGHT
TZOFFSETFROM:-0800
TZOFFSETTO:-0700
TZNAME:PDT
DTSTART:20240310T100000
END:DAYLIGHT
BEGIN:STANDARD
TZOFFSETFROM:-0700
TZOFFSETTO:-0800
TZNAME:PST
DTSTART:20241103T090000
END:STANDARD
BEGIN:DAYLIGHT
TZOFFSETFROM:-0800
TZOFFSETTO:-0700
TZNAME:PDT
DTSTART:20250309T100000
END:DAYLIGHT
BEGIN:STANDARD
TZOFFSETFROM:-0700
TZOFFSETTO:-0800
TZNAME:PST
DTSTART:20251102T090000
END:STANDARD
BEGIN:DAYLIGHT
TZOFFSETFROM:-0800
TZOFFSETTO:-0700
TZNAME:PDT
DTSTART:20260308T100000
END:DAYLIGHT
BEGIN:STANDARD
TZOFFSETFROM:-0700
TZOFFSETTO:-0800
TZNAME:PST
DTSTART:20261101T090000
END:STANDARD
END:VTIMEZONE
BEGIN:VEVENT
DTSTART;VALUE=DATE:20250108
DTEND;VALUE=DATE:20250113
DTSTAMP:20260422T122019
CREATED:20250109T010633Z
LAST-MODIFIED:20250109T010644Z
UID:235-1736294400-1736726399@www.millennialhouseplant.com
SUMMARY:His and Hers and Mine
DESCRIPTION:Daphne’s 23rd birthday celebration takes a wild turn when she invites her two best friends\, Meredith and Jax\, to a secluded cabin for a weekend of indulgence. As wine flows and inhibitions fade\, a game of Truth or Dare ignites a fiery passion between the trio. \n“His and Hers and Mine” is a steamy erotic novella that delves into the forbidden desires and tangled emotions of three friends. Join Daphne\, Meredith\, and Jax on a journey of lust and longing as they surrender to their deepest fantasies. Are you ready for a weekend of seduction\, secrets\, and uninhibited pleasure?
URL:https://www.millennialhouseplant.com/event/his-and-hers-and-mine/
LOCATION:Amazon Kindle
CATEGORIES:Free Books
END:VEVENT
BEGIN:VEVENT
DTSTART;VALUE=DATE:20250109
DTEND;VALUE=DATE:20250114
DTSTAMP:20260422T122019
CREATED:20250109T021349Z
LAST-MODIFIED:20250109T021349Z
UID:269-1736380800-1736812799@www.millennialhouseplant.com
SUMMARY:Convince Me To Stay (Weekend Escape)
DESCRIPTION:Kimberly Preston’s heart is torn between love and independence as she contemplates ending her relationship with Hollywood heartthrob Vince Jackson. But when they share one final passionate night\, will it reignite the flames of desire and lead her to reconsider her decision? \n“Convince Me To Stay” is a steamy standalone short story packed with tension\, temptation\, and life-changing revelations. Dive into a whirlwind romance that will leave you breathless and guessing until the very end. Are you ready to be convinced?
URL:https://www.millennialhouseplant.com/event/convince-me-to-stay-weekend-escape/
LOCATION:Amazon Kindle
CATEGORIES:Free Books
END:VEVENT
END:VCALENDAR