BEGIN:VCALENDAR
VERSION:2.0
PRODID:-//Millennial Houseplant - ECPv6.15.20//NONSGML v1.0//EN
CALSCALE:GREGORIAN
METHOD:PUBLISH
X-ORIGINAL-URL:https://www.millennialhouseplant.com
X-WR-CALDESC:Events for Millennial Houseplant
REFRESH-INTERVAL;VALUE=DURATION:PT1H
X-Robots-Tag:noindex
X-PUBLISHED-TTL:PT1H
BEGIN:VTIMEZONE
TZID:America/Los_Angeles
BEGIN:DAYLIGHT
TZOFFSETFROM:-0800
TZOFFSETTO:-0700
TZNAME:PDT
DTSTART:20240310T100000
END:DAYLIGHT
BEGIN:STANDARD
TZOFFSETFROM:-0700
TZOFFSETTO:-0800
TZNAME:PST
DTSTART:20241103T090000
END:STANDARD
BEGIN:DAYLIGHT
TZOFFSETFROM:-0800
TZOFFSETTO:-0700
TZNAME:PDT
DTSTART:20250309T100000
END:DAYLIGHT
BEGIN:STANDARD
TZOFFSETFROM:-0700
TZOFFSETTO:-0800
TZNAME:PST
DTSTART:20251102T090000
END:STANDARD
BEGIN:DAYLIGHT
TZOFFSETFROM:-0800
TZOFFSETTO:-0700
TZNAME:PDT
DTSTART:20260308T100000
END:DAYLIGHT
BEGIN:STANDARD
TZOFFSETFROM:-0700
TZOFFSETTO:-0800
TZNAME:PST
DTSTART:20261101T090000
END:STANDARD
END:VTIMEZONE
BEGIN:VEVENT
DTSTART;VALUE=DATE:20250128
DTEND;VALUE=DATE:20250202
DTSTAMP:20260422T103348
CREATED:20250109T015847Z
LAST-MODIFIED:20250109T015847Z
UID:262-1738022400-1738454399@www.millennialhouseplant.com
SUMMARY:The Romance of Nick and Layla (The Complete Series)
DESCRIPTION:Nick and Layla met and fell in love when they were both young and stupid\, and fell into the superficial trappings of fame and wealth. They soon discovered that they brought out the best and the worst in each other\, and their marriage – a secret to even their own families – suffered as a result. “The Romance of Nick and Layla” is a series of six parts that tells the story of a couple’s dysfunctional relationship over the course of nearly twenty years. \nWALK AWAY (Part 1):\nLayla doesn’t believe in love\, and yet there is only one man in the world who has ever had her heart: Nick Hudson. A pop star famous the world over\, Nick is everything a girl would want in a man. But their secret marriage is taking a toll on Layla’s life\, and every day she’s finding it more difficult to stay with the man who gives her every reason to walk away.
URL:https://www.millennialhouseplant.com/event/the-romance-of-nick-and-layla-the-complete-series/
LOCATION:Amazon Kindle
CATEGORIES:Free Books
END:VEVENT
END:VCALENDAR