BEGIN:VCALENDAR
VERSION:2.0
PRODID:-//Millennial Houseplant - ECPv6.15.20//NONSGML v1.0//EN
CALSCALE:GREGORIAN
METHOD:PUBLISH
X-ORIGINAL-URL:https://www.millennialhouseplant.com
X-WR-CALDESC:Events for Millennial Houseplant
REFRESH-INTERVAL;VALUE=DURATION:PT1H
X-Robots-Tag:noindex
X-PUBLISHED-TTL:PT1H
BEGIN:VTIMEZONE
TZID:America/Los_Angeles
BEGIN:DAYLIGHT
TZOFFSETFROM:-0800
TZOFFSETTO:-0700
TZNAME:PDT
DTSTART:20240310T100000
END:DAYLIGHT
BEGIN:STANDARD
TZOFFSETFROM:-0700
TZOFFSETTO:-0800
TZNAME:PST
DTSTART:20241103T090000
END:STANDARD
BEGIN:DAYLIGHT
TZOFFSETFROM:-0800
TZOFFSETTO:-0700
TZNAME:PDT
DTSTART:20250309T100000
END:DAYLIGHT
BEGIN:STANDARD
TZOFFSETFROM:-0700
TZOFFSETTO:-0800
TZNAME:PST
DTSTART:20251102T090000
END:STANDARD
BEGIN:DAYLIGHT
TZOFFSETFROM:-0800
TZOFFSETTO:-0700
TZNAME:PDT
DTSTART:20260308T100000
END:DAYLIGHT
BEGIN:STANDARD
TZOFFSETFROM:-0700
TZOFFSETTO:-0800
TZNAME:PST
DTSTART:20261101T090000
END:STANDARD
END:VTIMEZONE
BEGIN:VEVENT
DTSTART;VALUE=DATE:20250201
DTEND;VALUE=DATE:20250206
DTSTAMP:20260422T103529
CREATED:20250109T034144Z
LAST-MODIFIED:20250204T045534Z
UID:284-1738368000-1738799999@www.millennialhouseplant.com
SUMMARY:Awakening Rielle (Awakening Rielle #1)
DESCRIPTION:Welcome to the apocalypse. Liberation has a strong foothold in Raving Thistle\, rooting out morality in a society intent on living out the end of days according to its basest instincts. Rumor has it one man – known as ‘The Immortal’ – has found a way to live on forever\, subsisting on the rarest commodity: a woman’s virtue. Resigned to persevering by any means necessary\, Rielle intends to sell her purity in exchange for a chance to survive\, and a piece of immortality itself.
URL:https://www.millennialhouseplant.com/event/awakening-rielle-awakening-rielle-1/
LOCATION:Amazon Kindle
CATEGORIES:Free Books
ATTACH;FMTTYPE=image/png:https://www.millennialhouseplant.com/wp-content/uploads/2025/01/free-books-crystal-cierlak.png
END:VEVENT
BEGIN:VEVENT
DTSTART;VALUE=DATE:20250202
DTEND;VALUE=DATE:20250207
DTSTAMP:20260422T103529
CREATED:20250201T043929Z
LAST-MODIFIED:20250204T045609Z
UID:493-1738454400-1738886399@www.millennialhouseplant.com
SUMMARY:Candidate Four (The Bidden Series)
DESCRIPTION:Struggling under the weight of student debt\, Natalie Harlow finds herself trapped in a cycle of financial uncertainty. But when her sophisticated colleague Quinn extends a tantalizing offer\, Natalie is thrust into a world of secrecy and opulence. \nIntrigued yet wary\, Natalie steps into a high-stakes game where money speaks louder than morals. Twelve alluring “Candidates” stand ready for auction to twelve wealthy bidders\, promising an evening of indulgence behind closed doors. With the allure of quick cash pulling her in\, Natalie grapples with the choice to become Candidate Four. \nAs the night unfolds in a lavish hilltop mansion\, Natalie is swept into a whirlwind of desire\, power\, and intrigue. But as boundaries blur and inhibitions fade\, she must confront the consequences of her decisions. \nThe Bidden Series delivers a pulse-pounding tale of passion and temptation\, exploring the fine line between financial gain and personal sacrifice. Prepare to be captivated\, enchanted\, and left craving more. \nDiscover the complete Bidden series for an enthralling journey into the heart of desire.
URL:https://www.millennialhouseplant.com/event/candidate-four-the-bidden-series/
LOCATION:Amazon Kindle
CATEGORIES:Free Books
ATTACH;FMTTYPE=image/png:https://www.millennialhouseplant.com/wp-content/uploads/2025/01/free-books-crystal-cierlak.png
END:VEVENT
BEGIN:VEVENT
DTSTART;VALUE=DATE:20250202
DTEND;VALUE=DATE:20250207
DTSTAMP:20260422T103529
CREATED:20250201T044559Z
LAST-MODIFIED:20250204T045628Z
UID:497-1738454400-1738886399@www.millennialhouseplant.com
SUMMARY:Fading Dusk (The Bidden Series)
DESCRIPTION:You and me. No one else. Nobody ever has to know. \nCamilla Morley harbors a dark secret\, one that forces her to abandon her privileged life as the heir to her father’s empire and start anew in the bustling city of Los Angeles. As the personal assistant to billionaire James Fitzgerald\, Camilla immerses herself in a world of opulence and ambition\, determined to leave her past behind. \nBut when tragedy strikes\, Camilla finds herself plunged into a labyrinth of secrets and deception\, struggling to reconcile the truth with the illusions she’s built around herself. As the man who shares her clandestine past resurfaces\, Camilla is faced with unsettling revelations and a dangerous confession that threatens to shatter her carefully constructed facade. \n“Fading Dusk” is a gripping romantic suspense novel that delves into the shadows of ambition and betrayal\, offering readers a thrilling journey into the heart of Camilla’s world. With a slight cliffhanger and a planned sequel on the horizon\, this spinoff within The Bidden Series promises intrigue\, suspense\, and a riveting tale of redemption.
URL:https://www.millennialhouseplant.com/event/fading-dusk-the-bidden-series/
LOCATION:Amazon Kindle
CATEGORIES:Free Books
ATTACH;FMTTYPE=image/png:https://www.millennialhouseplant.com/wp-content/uploads/2025/01/free-books-crystal-cierlak.png
END:VEVENT
BEGIN:VEVENT
DTSTART;VALUE=DATE:20250203
DTEND;VALUE=DATE:20250208
DTSTAMP:20260422T103529
CREATED:20250109T034302Z
LAST-MODIFIED:20250204T045645Z
UID:286-1738540800-1738972799@www.millennialhouseplant.com
SUMMARY:Observing Rielle (Awakening Rielle #2)
DESCRIPTION:The allure of virgin blood is Death’s sweetest song\, calling to The Immortal in the form of the human virgin now in his possession – Rielle. Consummation of her purity would ensure her death and hasten the end of his own life\, but sustaining her may prove to be even more difficult\, especially when a chance encounter with another like herself reveals the truth of the fate she’s traded herself for. \nMeanwhile\, another world away\, Dr. Rupert Lewis has failed to keep a watchful eye on a comatose patient who has mysteriously disappeared – setting off a chain of events he could not possibly foresee – and now must surrender his fate to the mysterious man who is in possession of that which he sold long ago: his soul.
URL:https://www.millennialhouseplant.com/event/observing-rielle-awakening-rielle-2/
LOCATION:Amazon Kindle
CATEGORIES:Free Books
ATTACH;FMTTYPE=image/png:https://www.millennialhouseplant.com/wp-content/uploads/2025/01/free-books-crystal-cierlak.png
END:VEVENT
BEGIN:VEVENT
DTSTART;VALUE=DATE:20250205
DTEND;VALUE=DATE:20250210
DTSTAMP:20260422T103529
CREATED:20250109T034420Z
LAST-MODIFIED:20250204T045707Z
UID:288-1738713600-1739145599@www.millennialhouseplant.com
SUMMARY:Entrapping Rielle (Awakening Rielle #3)
DESCRIPTION:With a taste of The Immortal’s blood on her tongue\, Rielle hastily escapes towards Raving Thistle\, knowing once she crosses the gate halfway down the mountain The Immortal will begin to hunt her. She doesn’t make it too far before hallucinations taint reality\, and Rielle is seeing and hearing things beyond her comprehension. \nThe Immortal’s harem is wilting under the rise of Liberation\, threatening his very immortality. Rielle’s purity may be the difference between life and death\, but in his pursuit of her\, The Immortal discovers there is another in possession of her soul. One taste of her blood will reveal the secret of who Rielle really is\, but risks both of their lives. \nIn the meanwhile\, Talos – an intermediary between worlds – must inform the powerful demon he serves that the comatose girl they were watching over has inexplicably escaped\, and that an even greater power has awakened as a result.
URL:https://www.millennialhouseplant.com/event/entrapping-rielle-awakening-rielle-3/
LOCATION:Amazon Kindle
CATEGORIES:Free Books
ATTACH;FMTTYPE=image/png:https://www.millennialhouseplant.com/wp-content/uploads/2025/01/free-books-crystal-cierlak.png
END:VEVENT
END:VCALENDAR