BEGIN:VCALENDAR
VERSION:2.0
PRODID:-//Millennial Houseplant - ECPv6.15.20//NONSGML v1.0//EN
CALSCALE:GREGORIAN
METHOD:PUBLISH
X-WR-CALNAME:Millennial Houseplant
X-ORIGINAL-URL:https://www.millennialhouseplant.com
X-WR-CALDESC:Events for Millennial Houseplant
REFRESH-INTERVAL;VALUE=DURATION:PT1H
X-Robots-Tag:noindex
X-PUBLISHED-TTL:PT1H
BEGIN:VTIMEZONE
TZID:America/Los_Angeles
BEGIN:DAYLIGHT
TZOFFSETFROM:-0800
TZOFFSETTO:-0700
TZNAME:PDT
DTSTART:20240310T100000
END:DAYLIGHT
BEGIN:STANDARD
TZOFFSETFROM:-0700
TZOFFSETTO:-0800
TZNAME:PST
DTSTART:20241103T090000
END:STANDARD
BEGIN:DAYLIGHT
TZOFFSETFROM:-0800
TZOFFSETTO:-0700
TZNAME:PDT
DTSTART:20250309T100000
END:DAYLIGHT
BEGIN:STANDARD
TZOFFSETFROM:-0700
TZOFFSETTO:-0800
TZNAME:PST
DTSTART:20251102T090000
END:STANDARD
BEGIN:DAYLIGHT
TZOFFSETFROM:-0800
TZOFFSETTO:-0700
TZNAME:PDT
DTSTART:20260308T100000
END:DAYLIGHT
BEGIN:STANDARD
TZOFFSETFROM:-0700
TZOFFSETTO:-0800
TZNAME:PST
DTSTART:20261101T090000
END:STANDARD
END:VTIMEZONE
BEGIN:VEVENT
DTSTART;VALUE=DATE:20250209
DTEND;VALUE=DATE:20250214
DTSTAMP:20260422T104251
CREATED:20250109T034715Z
LAST-MODIFIED:20250204T045738Z
UID:292-1739059200-1739491199@www.millennialhouseplant.com
SUMMARY:Devising Rielle (Awakening Rielle #5)
DESCRIPTION:The Mother of Demons has returned to the human realm to clean up the mess left by her immortal creations\, and take care of a certain goddess-possessed human who threatens to unravel the plans she’s spent a millennia cultivating. The apocalypse doesn’t just come about from nothing\, it has to be formed. Perfected. And Rielle’s interference threatens the success of her reclaiming the world in her image. \nDeep in sopor – a profound sleep used by the gods to sleep between epochs\, The Immortal learns he is caught in the middle of a battle\, and his decision – the virgin goddess whose bound her soul to him\, or his sister Fleur\, the immortal patron of purity – determines the fate of the human realm. \nReborn to a world of golden light with the gods\, or scorched into a demon-ruled existence. \nCan Lilith and Fleur save The Immortal from the goddess-possessed Rielle – who has found a way to seduce her would-be lover even in the deepest recesses of sopor – or will they underestimate just how far the Star Maiden is prepared to go to fulfill her destiny of birthing a new golden era?
URL:https://www.millennialhouseplant.com/event/devising-rielle-awakening-rielle-5/
LOCATION:Amazon Kindle
CATEGORIES:Free Books
ATTACH;FMTTYPE=image/png:https://www.millennialhouseplant.com/wp-content/uploads/2025/01/free-books-crystal-cierlak.png
END:VEVENT
END:VCALENDAR