BEGIN:VCALENDAR
VERSION:2.0
PRODID:-//Millennial Houseplant - ECPv6.15.20//NONSGML v1.0//EN
CALSCALE:GREGORIAN
METHOD:PUBLISH
X-WR-CALNAME:Millennial Houseplant
X-ORIGINAL-URL:https://www.millennialhouseplant.com
X-WR-CALDESC:Events for Millennial Houseplant
REFRESH-INTERVAL;VALUE=DURATION:PT1H
X-Robots-Tag:noindex
X-PUBLISHED-TTL:PT1H
BEGIN:VTIMEZONE
TZID:America/Los_Angeles
BEGIN:DAYLIGHT
TZOFFSETFROM:-0800
TZOFFSETTO:-0700
TZNAME:PDT
DTSTART:20240310T100000
END:DAYLIGHT
BEGIN:STANDARD
TZOFFSETFROM:-0700
TZOFFSETTO:-0800
TZNAME:PST
DTSTART:20241103T090000
END:STANDARD
BEGIN:DAYLIGHT
TZOFFSETFROM:-0800
TZOFFSETTO:-0700
TZNAME:PDT
DTSTART:20250309T100000
END:DAYLIGHT
BEGIN:STANDARD
TZOFFSETFROM:-0700
TZOFFSETTO:-0800
TZNAME:PST
DTSTART:20251102T090000
END:STANDARD
BEGIN:DAYLIGHT
TZOFFSETFROM:-0800
TZOFFSETTO:-0700
TZNAME:PDT
DTSTART:20260308T100000
END:DAYLIGHT
BEGIN:STANDARD
TZOFFSETFROM:-0700
TZOFFSETTO:-0800
TZNAME:PST
DTSTART:20261101T090000
END:STANDARD
END:VTIMEZONE
BEGIN:VEVENT
DTSTART;VALUE=DATE:20250218
DTEND;VALUE=DATE:20250223
DTSTAMP:20260422T103133
CREATED:20250204T054815Z
LAST-MODIFIED:20250204T054815Z
UID:552-1739836800-1740268799@www.millennialhouseplant.com
SUMMARY:Ravenlace (The House ofNightfallen #10)
DESCRIPTION:A prophecy exposed. A house in ruin. \nIn the aftermath of the deadly confrontation between the High Lord and his heir\, Castle Nightfall is no longer safe for the human Clementine Thornbury. Under the cloak of darkness she is sent to the one place in court safer than the castle itself\, uncertain when\, if ever\, she’ll return. \nAt Ravenlace\, Clementine is relegated to the life she always thought she’d live: in service to the fae. As a maidservant she becomes familiar with the noble Ravenlace family\, particularly their oldest daughter\, Izara\, and forms bonds with the household staff and servants who live to serve at her side. \nBut as time passes\, she finds it difficult to let go of her past\, especially with so much uncertainty about her future. \nWhen it’s announced that the High Lord will be visiting Ravenlace as part of a tour of the court lands\, Clementine wonders if he’s coming for her\, or if she’s been sent to Ravenlace to live out the rest of her life outside of the Nightfallen. \nThis is the 10th episode in the House of Nightfallen series\, and at 25k words it is the longest episode of the series yet!
URL:https://www.millennialhouseplant.com/event/ravenlace-the-house-ofnightfallen-10/
LOCATION:Amazon Kindle
CATEGORIES:Free Books
ATTACH;FMTTYPE=image/png:https://www.millennialhouseplant.com/wp-content/uploads/2025/02/free-books-lauren-bolt.png
END:VEVENT
END:VCALENDAR